BEGIN:VCALENDAR
VERSION:2.0
PRODID:-// - ECPv6.15.20//NONSGML v1.0//EN
CALSCALE:GREGORIAN
METHOD:PUBLISH
X-ORIGINAL-URL:https://www.frauentreff-brueckenhof.de
X-WR-CALDESC:Veranstaltungen für 
REFRESH-INTERVAL;VALUE=DURATION:PT1H
X-Robots-Tag:noindex
X-PUBLISHED-TTL:PT1H
BEGIN:VTIMEZONE
TZID:Europe/Berlin
BEGIN:DAYLIGHT
TZOFFSETFROM:+0100
TZOFFSETTO:+0200
TZNAME:CEST
DTSTART:20240331T010000
END:DAYLIGHT
BEGIN:STANDARD
TZOFFSETFROM:+0200
TZOFFSETTO:+0100
TZNAME:CET
DTSTART:20241027T010000
END:STANDARD
BEGIN:DAYLIGHT
TZOFFSETFROM:+0100
TZOFFSETTO:+0200
TZNAME:CEST
DTSTART:20250330T010000
END:DAYLIGHT
BEGIN:STANDARD
TZOFFSETFROM:+0200
TZOFFSETTO:+0100
TZNAME:CET
DTSTART:20251026T010000
END:STANDARD
BEGIN:DAYLIGHT
TZOFFSETFROM:+0100
TZOFFSETTO:+0200
TZNAME:CEST
DTSTART:20260329T010000
END:DAYLIGHT
BEGIN:STANDARD
TZOFFSETFROM:+0200
TZOFFSETTO:+0100
TZNAME:CET
DTSTART:20261025T010000
END:STANDARD
END:VTIMEZONE
BEGIN:VEVENT
DTSTART;TZID=Europe/Berlin:20250515T090000
DTEND;TZID=Europe/Berlin:20250515T110000
DTSTAMP:20260420T202302
CREATED:20230320T115206Z
LAST-MODIFIED:20250512T171835Z
UID:2551-1747299600-1747306800@www.frauentreff-brueckenhof.de
SUMMARY:Frauenfrühstück
DESCRIPTION:
URL:https://www.frauentreff-brueckenhof.de/event/frauenfruehstueck/
LOCATION:Rotes Haus\, Altenbaunaer Str 109\, Kassel\, 34132\, Deutschland
ATTACH;FMTTYPE=image/jpeg:https://www.frauentreff-brueckenhof.de/wp-content/uploads/2025/05/Frauenfruehstuck_GWH.jpg
END:VEVENT
END:VCALENDAR