BEGIN:VCALENDAR
VERSION:2.0
PRODID:-// - ECPv6.15.20//NONSGML v1.0//EN
CALSCALE:GREGORIAN
METHOD:PUBLISH
X-ORIGINAL-URL:https://www.frauentreff-brueckenhof.de
X-WR-CALDESC:Veranstaltungen für 
REFRESH-INTERVAL;VALUE=DURATION:PT1H
X-Robots-Tag:noindex
X-PUBLISHED-TTL:PT1H
BEGIN:VTIMEZONE
TZID:Europe/Berlin
BEGIN:DAYLIGHT
TZOFFSETFROM:+0100
TZOFFSETTO:+0200
TZNAME:CEST
DTSTART:20240331T010000
END:DAYLIGHT
BEGIN:STANDARD
TZOFFSETFROM:+0200
TZOFFSETTO:+0100
TZNAME:CET
DTSTART:20241027T010000
END:STANDARD
BEGIN:DAYLIGHT
TZOFFSETFROM:+0100
TZOFFSETTO:+0200
TZNAME:CEST
DTSTART:20250330T010000
END:DAYLIGHT
BEGIN:STANDARD
TZOFFSETFROM:+0200
TZOFFSETTO:+0100
TZNAME:CET
DTSTART:20251026T010000
END:STANDARD
BEGIN:DAYLIGHT
TZOFFSETFROM:+0100
TZOFFSETTO:+0200
TZNAME:CEST
DTSTART:20260329T010000
END:DAYLIGHT
BEGIN:STANDARD
TZOFFSETFROM:+0200
TZOFFSETTO:+0100
TZNAME:CET
DTSTART:20261025T010000
END:STANDARD
END:VTIMEZONE
BEGIN:VEVENT
DTSTART;TZID=Europe/Berlin:20250331T150000
DTEND;TZID=Europe/Berlin:20250401T163000
DTSTAMP:20260420T220029
CREATED:20250331T111035Z
LAST-MODIFIED:20250331T111045Z
UID:3517-1743433200-1743525000@www.frauentreff-brueckenhof.de
SUMMARY:Klimagesunde Ernährung
DESCRIPTION:
URL:https://www.frauentreff-brueckenhof.de/event/klimagesunde-ernaehrung/
ATTACH;FMTTYPE=image/jpeg:https://www.frauentreff-brueckenhof.de/wp-content/uploads/2025/03/klimagesunde-ernaehrung.jpg
END:VEVENT
BEGIN:VEVENT
DTSTART;TZID=Europe/Berlin:20250402T150000
DTEND;TZID=Europe/Berlin:20250402T170000
DTSTAMP:20260420T220029
CREATED:20250331T111137Z
LAST-MODIFIED:20250331T111137Z
UID:3519-1743606000-1743613200@www.frauentreff-brueckenhof.de
SUMMARY:Zuckerfest
DESCRIPTION:
URL:https://www.frauentreff-brueckenhof.de/event/zuckerfest/
ATTACH;FMTTYPE=image/jpeg:https://www.frauentreff-brueckenhof.de/wp-content/uploads/2025/03/zuckerfest.jpg
END:VEVENT
BEGIN:VEVENT
DTSTART;TZID=Europe/Berlin:20250402T150000
DTEND;TZID=Europe/Berlin:20250402T183000
DTSTAMP:20260420T220029
CREATED:20250331T110908Z
LAST-MODIFIED:20250331T110909Z
UID:3515-1743606000-1743618600@www.frauentreff-brueckenhof.de
SUMMARY:Un Repair
DESCRIPTION:
URL:https://www.frauentreff-brueckenhof.de/event/un-repair/
ATTACH;FMTTYPE=image/jpeg:https://www.frauentreff-brueckenhof.de/wp-content/uploads/2025/03/unrepair.jpg
END:VEVENT
BEGIN:VEVENT
DTSTART;TZID=Europe/Berlin:20250407T100000
DTEND;TZID=Europe/Berlin:20250410T120000
DTSTAMP:20260420T220029
CREATED:20250331T110707Z
LAST-MODIFIED:20250331T110708Z
UID:3511-1744020000-1744286400@www.frauentreff-brueckenhof.de
SUMMARY:Fahrradkurs für Frauen
DESCRIPTION:
URL:https://www.frauentreff-brueckenhof.de/event/fahrradkurs-fuer-frauen-2/
ATTACH;FMTTYPE=image/jpeg:https://www.frauentreff-brueckenhof.de/wp-content/uploads/2025/03/fahrradkurs-frauen.jpg
END:VEVENT
BEGIN:VEVENT
DTSTART;TZID=Europe/Berlin:20250413T080000
DTEND;TZID=Europe/Berlin:20250417T170000
DTSTAMP:20260420T220029
CREATED:20250331T111257Z
LAST-MODIFIED:20250331T111257Z
UID:3521-1744531200-1744909200@www.frauentreff-brueckenhof.de
SUMMARY:Tanztheaterprojekt
DESCRIPTION:
URL:https://www.frauentreff-brueckenhof.de/event/tanztheaterprojekt/
ATTACH;FMTTYPE=image/jpeg:https://www.frauentreff-brueckenhof.de/wp-content/uploads/2025/03/Meer-aus-Plastik.jpg
END:VEVENT
BEGIN:VEVENT
DTSTART;TZID=Europe/Berlin:20250426T140000
DTEND;TZID=Europe/Berlin:20250426T170000
DTSTAMP:20260420T220029
CREATED:20250331T110539Z
LAST-MODIFIED:20250331T110540Z
UID:3509-1745676000-1745686800@www.frauentreff-brueckenhof.de
SUMMARY:Tauschtag
DESCRIPTION:
URL:https://www.frauentreff-brueckenhof.de/event/tauschtag/
ATTACH;FMTTYPE=image/jpeg:https://www.frauentreff-brueckenhof.de/wp-content/uploads/2025/03/tauschtag.jpg
END:VEVENT
BEGIN:VEVENT
DTSTART;TZID=Europe/Berlin:20250429T150000
DTEND;TZID=Europe/Berlin:20250429T170000
DTSTAMP:20260420T220029
CREATED:20250407T170430Z
LAST-MODIFIED:20250407T170430Z
UID:3539-1745938800-1745946000@www.frauentreff-brueckenhof.de
SUMMARY:Gesunde Ernährung im Alter
DESCRIPTION:Vortrag
URL:https://www.frauentreff-brueckenhof.de/event/gesunde-ernaehrung-im-alter/
ATTACH;FMTTYPE=image/jpeg:https://www.frauentreff-brueckenhof.de/wp-content/uploads/2025/03/Gesunde_Ernaehrung-im-Alter.jpg
END:VEVENT
BEGIN:VEVENT
DTSTART;TZID=Europe/Berlin:20250430T150000
DTEND;TZID=Europe/Berlin:20250430T170000
DTSTAMP:20260420T220029
CREATED:20250331T110802Z
LAST-MODIFIED:20250331T110802Z
UID:3513-1746025200-1746032400@www.frauentreff-brueckenhof.de
SUMMARY:Eröffnungsfeier Park Oberzwehren
DESCRIPTION:
URL:https://www.frauentreff-brueckenhof.de/event/eroeffnungsfeier-park-oberzwehren/
ATTACH;FMTTYPE=image/jpeg:https://www.frauentreff-brueckenhof.de/wp-content/uploads/2025/03/eroeffungungsfeier-park-oberzwehren.jpg
END:VEVENT
END:VCALENDAR