BEGIN:VCALENDAR
VERSION:2.0
PRODID:-// - ECPv6.15.20//NONSGML v1.0//EN
CALSCALE:GREGORIAN
METHOD:PUBLISH
X-ORIGINAL-URL:https://www.frauentreff-brueckenhof.de
X-WR-CALDESC:Veranstaltungen für 
REFRESH-INTERVAL;VALUE=DURATION:PT1H
X-Robots-Tag:noindex
X-PUBLISHED-TTL:PT1H
BEGIN:VTIMEZONE
TZID:Europe/Berlin
BEGIN:DAYLIGHT
TZOFFSETFROM:+0100
TZOFFSETTO:+0200
TZNAME:CEST
DTSTART:20220327T010000
END:DAYLIGHT
BEGIN:STANDARD
TZOFFSETFROM:+0200
TZOFFSETTO:+0100
TZNAME:CET
DTSTART:20221030T010000
END:STANDARD
BEGIN:DAYLIGHT
TZOFFSETFROM:+0100
TZOFFSETTO:+0200
TZNAME:CEST
DTSTART:20230326T010000
END:DAYLIGHT
BEGIN:STANDARD
TZOFFSETFROM:+0200
TZOFFSETTO:+0100
TZNAME:CET
DTSTART:20231029T010000
END:STANDARD
BEGIN:DAYLIGHT
TZOFFSETFROM:+0100
TZOFFSETTO:+0200
TZNAME:CEST
DTSTART:20240331T010000
END:DAYLIGHT
BEGIN:STANDARD
TZOFFSETFROM:+0200
TZOFFSETTO:+0100
TZNAME:CET
DTSTART:20241027T010000
END:STANDARD
END:VTIMEZONE
BEGIN:VEVENT
DTSTART;TZID=Europe/Berlin:20230317T190000
DTEND;TZID=Europe/Berlin:20230317T210000
DTSTAMP:20260422T114023
CREATED:20230312T164525Z
LAST-MODIFIED:20230312T164525Z
UID:2547-1679079600-1679086800@www.frauentreff-brueckenhof.de
SUMMARY:Keine Mehr
DESCRIPTION:Bühne für Menschenrechte – ein Dokumentarisches Theaterstück über Solidarität
URL:https://www.frauentreff-brueckenhof.de/event/keine-mehr/
ATTACH;FMTTYPE=image/jpeg:https://www.frauentreff-brueckenhof.de/wp-content/uploads/2023/03/Keine-Mehr-Theaterstueck.jpg
END:VEVENT
BEGIN:VEVENT
DTSTART;TZID=Europe/Berlin:20230323T140000
DTEND;TZID=Europe/Berlin:20230323T150000
DTSTAMP:20260422T114023
CREATED:20230320T115647Z
LAST-MODIFIED:20230320T115703Z
UID:2554-1679580000-1679583600@www.frauentreff-brueckenhof.de
SUMMARY:Infoveranstaltung
DESCRIPTION:Interkulturelle Übungsleiterausbildung für Frauen \nReferentin: Zoreh Almadani
URL:https://www.frauentreff-brueckenhof.de/event/infoveranstaltung/
ATTACH;FMTTYPE=image/jpeg:https://www.frauentreff-brueckenhof.de/wp-content/uploads/2023/03/Infoveranstaltung-Uebung4.jpg
END:VEVENT
BEGIN:VEVENT
DTSTART;TZID=Europe/Berlin:20230329T150000
DTEND;TZID=Europe/Berlin:20230329T170000
DTSTAMP:20260422T114023
CREATED:20230327T161457Z
LAST-MODIFIED:20230327T161504Z
UID:2559-1680102000-1680109200@www.frauentreff-brueckenhof.de
SUMMARY:FairTeiler
DESCRIPTION:Eröffnung FairTeiler – Kostenlose und gerettete Lebensmittel in Kassel Oberzwehren
URL:https://www.frauentreff-brueckenhof.de/event/fairteiler/
ATTACH;FMTTYPE=image/jpeg:https://www.frauentreff-brueckenhof.de/wp-content/uploads/2023/03/Fair-Teiler.jpg
END:VEVENT
BEGIN:VEVENT
DTSTART;TZID=Europe/Berlin:20230330T160000
DTEND;TZID=Europe/Berlin:20230330T180000
DTSTAMP:20260422T114023
CREATED:20230328T164655Z
LAST-MODIFIED:20230328T164655Z
UID:2575-1680192000-1680199200@www.frauentreff-brueckenhof.de
SUMMARY:Vortrag Kolonialismus und seine Auswirkungen
DESCRIPTION:Vortrag von Joshua Kwesi Aikins
URL:https://www.frauentreff-brueckenhof.de/event/vortrag-kolonialismus-und-seine-auswirkungen/
LOCATION:Altenbaunaerstraße\, Altenbaunaerstraße\, Kassel\, Hessen\, Deutschland
ATTACH;FMTTYPE=image/jpeg:https://www.frauentreff-brueckenhof.de/wp-content/uploads/2023/03/Vortrag_Kolonialismus.jpg
END:VEVENT
END:VCALENDAR