BEGIN:VCALENDAR
VERSION:2.0
PRODID:-// - ECPv6.15.20//NONSGML v1.0//EN
CALSCALE:GREGORIAN
METHOD:PUBLISH
X-ORIGINAL-URL:https://www.frauentreff-brueckenhof.de
X-WR-CALDESC:Veranstaltungen für 
REFRESH-INTERVAL;VALUE=DURATION:PT1H
X-Robots-Tag:noindex
X-PUBLISHED-TTL:PT1H
BEGIN:VTIMEZONE
TZID:Europe/Berlin
BEGIN:DAYLIGHT
TZOFFSETFROM:+0100
TZOFFSETTO:+0200
TZNAME:CEST
DTSTART:20220327T010000
END:DAYLIGHT
BEGIN:STANDARD
TZOFFSETFROM:+0200
TZOFFSETTO:+0100
TZNAME:CET
DTSTART:20221030T010000
END:STANDARD
BEGIN:DAYLIGHT
TZOFFSETFROM:+0100
TZOFFSETTO:+0200
TZNAME:CEST
DTSTART:20230326T010000
END:DAYLIGHT
BEGIN:STANDARD
TZOFFSETFROM:+0200
TZOFFSETTO:+0100
TZNAME:CET
DTSTART:20231029T010000
END:STANDARD
BEGIN:DAYLIGHT
TZOFFSETFROM:+0100
TZOFFSETTO:+0200
TZNAME:CEST
DTSTART:20240331T010000
END:DAYLIGHT
BEGIN:STANDARD
TZOFFSETFROM:+0200
TZOFFSETTO:+0100
TZNAME:CET
DTSTART:20241027T010000
END:STANDARD
END:VTIMEZONE
BEGIN:VEVENT
DTSTART;TZID=Europe/Berlin:20230201T130000
DTEND;TZID=Europe/Berlin:20230201T150000
DTSTAMP:20260422T130633
CREATED:20230130T161700Z
LAST-MODIFIED:20230130T161718Z
UID:2464-1675256400-1675263600@www.frauentreff-brueckenhof.de
SUMMARY:Zu Gast beim Frauenfrühstück
DESCRIPTION:Eva Kühne Hörmann\, CDU \nim Roten Haus \nAltenbaunaerstraße 109
URL:https://www.frauentreff-brueckenhof.de/event/zu-gast-beim-frauenfruehstueck/
ATTACH;FMTTYPE=image/jpeg:https://www.frauentreff-brueckenhof.de/wp-content/uploads/2023/01/OB-Wahl-Eva-Kuehne-Hoermann.jpg
END:VEVENT
BEGIN:VEVENT
DTSTART;TZID=Europe/Berlin:20230201T170000
DTEND;TZID=Europe/Berlin:20230201T190000
DTSTAMP:20260422T130633
CREATED:20230130T092705Z
LAST-MODIFIED:20230130T092848Z
UID:2460-1675270800-1675278000@www.frauentreff-brueckenhof.de
SUMMARY:Reparatur-Cafe
DESCRIPTION:Gemeinsames Reparieren von Haushaltsgegenständen\, Spielzeugen und Textilien bei Kaffee und Kuchen
URL:https://www.frauentreff-brueckenhof.de/event/reparatur-cafe/
ATTACH;FMTTYPE=image/jpeg:https://www.frauentreff-brueckenhof.de/wp-content/uploads/2023/01/Reparaturcafe-Januar.jpg
END:VEVENT
BEGIN:VEVENT
DTSTART;TZID=Europe/Berlin:20230208T093000
DTEND;TZID=Europe/Berlin:20230208T103000
DTSTAMP:20260422T130633
CREATED:20230206T184736Z
LAST-MODIFIED:20230206T184736Z
UID:2471-1675848600-1675852200@www.frauentreff-brueckenhof.de
SUMMARY:Zu Gast beim Frauenfrühstück - Christian Geselle
DESCRIPTION:
URL:https://www.frauentreff-brueckenhof.de/event/zu-gast-beim-frauenfruehstueck-christian-geselle/
ATTACH;FMTTYPE=image/jpeg:https://www.frauentreff-brueckenhof.de/wp-content/uploads/2023/02/Frauenfruehstueck-ob-wahl.jpg
END:VEVENT
BEGIN:VEVENT
DTSTART;TZID=Europe/Berlin:20230217T090000
DTEND;TZID=Europe/Berlin:20230217T110000
DTSTAMP:20260422T130633
CREATED:20230213T124421Z
LAST-MODIFIED:20230213T124422Z
UID:2474-1676624400-1676631600@www.frauentreff-brueckenhof.de
SUMMARY:Zu Gast beim Frauenfrühstück Violetta Bock\, Kasseler Linke
DESCRIPTION:
URL:https://www.frauentreff-brueckenhof.de/event/zu-gast-beim-frauenfruehstueck-violetta-bock-kasseler-linke/
ATTACH;FMTTYPE=image/jpeg:https://www.frauentreff-brueckenhof.de/wp-content/uploads/2023/02/Frauenfruehstueck-Violetta-Bock.jpg
END:VEVENT
BEGIN:VEVENT
DTSTART;TZID=Europe/Berlin:20230224T150000
DTEND;TZID=Europe/Berlin:20230224T170000
DTSTAMP:20260422T130633
CREATED:20230220T124352Z
LAST-MODIFIED:20230220T124459Z
UID:2479-1677250800-1677258000@www.frauentreff-brueckenhof.de
SUMMARY:Benefizkonzert für die Erdbebenopfer in Türkei und Syrien
DESCRIPTION:Solidarität in Oberzwehren
URL:https://www.frauentreff-brueckenhof.de/event/benefizkonzert-fuer-die-erdbebenopfer-in-tuerkei-und-syrien/
ATTACH;FMTTYPE=image/jpeg:https://www.frauentreff-brueckenhof.de/wp-content/uploads/2023/02/Spendenaktion_Erdbebenopfer.jpg
END:VEVENT
END:VCALENDAR