BEGIN:VCALENDAR
VERSION:2.0
PRODID:-// - ECPv6.15.20//NONSGML v1.0//EN
CALSCALE:GREGORIAN
METHOD:PUBLISH
X-ORIGINAL-URL:https://www.frauentreff-brueckenhof.de
X-WR-CALDESC:Veranstaltungen für 
REFRESH-INTERVAL;VALUE=DURATION:PT1H
X-Robots-Tag:noindex
X-PUBLISHED-TTL:PT1H
BEGIN:VTIMEZONE
TZID:Europe/Berlin
BEGIN:DAYLIGHT
TZOFFSETFROM:+0100
TZOFFSETTO:+0200
TZNAME:CEST
DTSTART:20210328T010000
END:DAYLIGHT
BEGIN:STANDARD
TZOFFSETFROM:+0200
TZOFFSETTO:+0100
TZNAME:CET
DTSTART:20211031T010000
END:STANDARD
BEGIN:DAYLIGHT
TZOFFSETFROM:+0100
TZOFFSETTO:+0200
TZNAME:CEST
DTSTART:20220327T010000
END:DAYLIGHT
BEGIN:STANDARD
TZOFFSETFROM:+0200
TZOFFSETTO:+0100
TZNAME:CET
DTSTART:20221030T010000
END:STANDARD
BEGIN:DAYLIGHT
TZOFFSETFROM:+0100
TZOFFSETTO:+0200
TZNAME:CEST
DTSTART:20230326T010000
END:DAYLIGHT
BEGIN:STANDARD
TZOFFSETFROM:+0200
TZOFFSETTO:+0100
TZNAME:CET
DTSTART:20231029T010000
END:STANDARD
END:VTIMEZONE
BEGIN:VEVENT
DTSTART;TZID=Europe/Berlin:20220713T100000
DTEND;TZID=Europe/Berlin:20220713T113000
DTSTAMP:20260423T004146
CREATED:20220124T082729Z
LAST-MODIFIED:20220711T082851Z
UID:1967-1657706400-1657711800@www.frauentreff-brueckenhof.de
SUMMARY:Kinderwagen-Spaziergänge
DESCRIPTION:mit Baby und Kleinkind \njeden Mittwoch \n10.00 Uhr bis 11.30 Uhr \n  \nWir treffen uns vor dem Familientreff Oberwehren
URL:https://www.frauentreff-brueckenhof.de/event/kinderwagen-spaziergaenge/
LOCATION:Familientreff Oberzwehren\, Theodor-Haubach-Straße 8\, Kassel\, 34132\, Deutschland
ATTACH;FMTTYPE=image/jpeg:https://www.frauentreff-brueckenhof.de/wp-content/uploads/2022/01/Kinderwagen_Spaziergaenge.jpg
END:VEVENT
BEGIN:VEVENT
DTSTART;TZID=Europe/Berlin:20220713T140000
DTEND;TZID=Europe/Berlin:20220713T160000
DTSTAMP:20260423T004146
CREATED:20220131T090442Z
LAST-MODIFIED:20220711T082836Z
UID:1986-1657720800-1657728000@www.frauentreff-brueckenhof.de
SUMMARY:Walken in der Dönche
DESCRIPTION:Wir bleiben fit! \njeden Mittwoch \nTreffpunkt vor dem Familientreff
URL:https://www.frauentreff-brueckenhof.de/event/walken-in-der-doenche-2/
ATTACH;FMTTYPE=image/jpeg:https://www.frauentreff-brueckenhof.de/wp-content/uploads/2022/01/walken_doenche.jpg
END:VEVENT
END:VCALENDAR