BEGIN:VCALENDAR
VERSION:2.0
PRODID:-// - ECPv6.15.20//NONSGML v1.0//EN
CALSCALE:GREGORIAN
METHOD:PUBLISH
X-ORIGINAL-URL:https://www.frauentreff-brueckenhof.de
X-WR-CALDESC:Veranstaltungen für 
REFRESH-INTERVAL;VALUE=DURATION:PT1H
X-Robots-Tag:noindex
X-PUBLISHED-TTL:PT1H
BEGIN:VTIMEZONE
TZID:Europe/Berlin
BEGIN:DAYLIGHT
TZOFFSETFROM:+0100
TZOFFSETTO:+0200
TZNAME:CEST
DTSTART:20210328T010000
END:DAYLIGHT
BEGIN:STANDARD
TZOFFSETFROM:+0200
TZOFFSETTO:+0100
TZNAME:CET
DTSTART:20211031T010000
END:STANDARD
BEGIN:DAYLIGHT
TZOFFSETFROM:+0100
TZOFFSETTO:+0200
TZNAME:CEST
DTSTART:20220327T010000
END:DAYLIGHT
BEGIN:STANDARD
TZOFFSETFROM:+0200
TZOFFSETTO:+0100
TZNAME:CET
DTSTART:20221030T010000
END:STANDARD
BEGIN:DAYLIGHT
TZOFFSETFROM:+0100
TZOFFSETTO:+0200
TZNAME:CEST
DTSTART:20230326T010000
END:DAYLIGHT
BEGIN:STANDARD
TZOFFSETFROM:+0200
TZOFFSETTO:+0100
TZNAME:CET
DTSTART:20231029T010000
END:STANDARD
END:VTIMEZONE
BEGIN:VEVENT
DTSTART;TZID=Europe/Berlin:20221107T150000
DTEND;TZID=Europe/Berlin:20221107T160000
DTSTAMP:20260422T193503
CREATED:20220704T091625Z
LAST-MODIFIED:20221024T085153Z
UID:2256-1667833200-1667836800@www.frauentreff-brueckenhof.de
SUMMARY:Willkommen von Anfang an
DESCRIPTION:Beratung zu folgenden Themen \nGesundheit \nSchwangerschaft \nKinderbetreuung \nsoziale Vernetzung \nVermittlung an andere Institutionen \nFragen rund ums Kind
URL:https://www.frauentreff-brueckenhof.de/event/willkommen-von-anfang-an/
LOCATION:Familientreff Oberzwehren\, Theodor-Haubach-Straße 8\, Kassel\, 34132\, Deutschland
ATTACH;FMTTYPE=image/jpeg:https://www.frauentreff-brueckenhof.de/wp-content/uploads/2022/07/Aktions-flyer.jpg
END:VEVENT
END:VCALENDAR