BEGIN:VCALENDAR
VERSION:2.0
PRODID:-// - ECPv6.15.20//NONSGML v1.0//EN
CALSCALE:GREGORIAN
METHOD:PUBLISH
X-ORIGINAL-URL:https://www.frauentreff-brueckenhof.de
X-WR-CALDESC:Veranstaltungen für 
REFRESH-INTERVAL;VALUE=DURATION:PT1H
X-Robots-Tag:noindex
X-PUBLISHED-TTL:PT1H
BEGIN:VTIMEZONE
TZID:Europe/Berlin
BEGIN:DAYLIGHT
TZOFFSETFROM:+0100
TZOFFSETTO:+0200
TZNAME:CEST
DTSTART:20210328T010000
END:DAYLIGHT
BEGIN:STANDARD
TZOFFSETFROM:+0200
TZOFFSETTO:+0100
TZNAME:CET
DTSTART:20211031T010000
END:STANDARD
BEGIN:DAYLIGHT
TZOFFSETFROM:+0100
TZOFFSETTO:+0200
TZNAME:CEST
DTSTART:20220327T010000
END:DAYLIGHT
BEGIN:STANDARD
TZOFFSETFROM:+0200
TZOFFSETTO:+0100
TZNAME:CET
DTSTART:20221030T010000
END:STANDARD
BEGIN:DAYLIGHT
TZOFFSETFROM:+0100
TZOFFSETTO:+0200
TZNAME:CEST
DTSTART:20230326T010000
END:DAYLIGHT
BEGIN:STANDARD
TZOFFSETFROM:+0200
TZOFFSETTO:+0100
TZNAME:CET
DTSTART:20231029T010000
END:STANDARD
END:VTIMEZONE
BEGIN:VEVENT
DTSTART;TZID=Europe/Berlin:20221018T093000
DTEND;TZID=Europe/Berlin:20221018T110000
DTSTAMP:20260422T210327
CREATED:20221010T074518Z
LAST-MODIFIED:20221017T074859Z
UID:2348-1666085400-1666090800@www.frauentreff-brueckenhof.de
SUMMARY:Spielkreis U3
DESCRIPTION:Spielkreis für Kinder von 6 – 36 Monaten mit Eltern \nJeden Dienstag von 9.30 – 11.00 Uhr \nAnmeldung und Information im Familientreff-Oberzwehren\, Telefon 0561-92062020 \n  \n  \n 
URL:https://www.frauentreff-brueckenhof.de/event/spielkreis-u3/
ATTACH;FMTTYPE=image/jpeg:https://www.frauentreff-brueckenhof.de/wp-content/uploads/2022/10/Spielkreis_U3.jpg
END:VEVENT
END:VCALENDAR