BEGIN:VCALENDAR
VERSION:2.0
PRODID:-// - ECPv6.15.20//NONSGML v1.0//EN
CALSCALE:GREGORIAN
METHOD:PUBLISH
X-ORIGINAL-URL:https://www.frauentreff-brueckenhof.de
X-WR-CALDESC:Veranstaltungen für 
REFRESH-INTERVAL;VALUE=DURATION:PT1H
X-Robots-Tag:noindex
X-PUBLISHED-TTL:PT1H
BEGIN:VTIMEZONE
TZID:Europe/Berlin
BEGIN:DAYLIGHT
TZOFFSETFROM:+0100
TZOFFSETTO:+0200
TZNAME:CEST
DTSTART:20210328T010000
END:DAYLIGHT
BEGIN:STANDARD
TZOFFSETFROM:+0200
TZOFFSETTO:+0100
TZNAME:CET
DTSTART:20211031T010000
END:STANDARD
BEGIN:DAYLIGHT
TZOFFSETFROM:+0100
TZOFFSETTO:+0200
TZNAME:CEST
DTSTART:20220327T010000
END:DAYLIGHT
BEGIN:STANDARD
TZOFFSETFROM:+0200
TZOFFSETTO:+0100
TZNAME:CET
DTSTART:20221030T010000
END:STANDARD
BEGIN:DAYLIGHT
TZOFFSETFROM:+0100
TZOFFSETTO:+0200
TZNAME:CEST
DTSTART:20230326T010000
END:DAYLIGHT
BEGIN:STANDARD
TZOFFSETFROM:+0200
TZOFFSETTO:+0100
TZNAME:CET
DTSTART:20231029T010000
END:STANDARD
END:VTIMEZONE
BEGIN:VEVENT
DTSTART;TZID=Europe/Berlin:20220502T080000
DTEND;TZID=Europe/Berlin:20220630T120000
DTSTAMP:20260423T055735
CREATED:20220502T084517Z
LAST-MODIFIED:20220502T084522Z
UID:2218-1651478400-1656590400@www.frauentreff-brueckenhof.de
SUMMARY:Violets Against Violence
DESCRIPTION:7000 gehäkelte Blumen gegen Gewalt an Frauen\nWir suchen Menschen\, die uns beim Häkeln unterstützen! \nGenauere Infos und die Anleitung  findet Ihr auf der Webseite: \nFür jedes Veilchen ein Veilchen \n \nWenn Du mithäkeln möchtest\, kannst Du Deine Blumen bis Ende Juni im Frauentreff Brückenhof in der Sammelbox abgeben.
URL:https://www.frauentreff-brueckenhof.de/event/violets-against-violence/
ATTACH;FMTTYPE=image/jpeg:https://www.frauentreff-brueckenhof.de/wp-content/uploads/2022/05/Violets-against1.jpg
END:VEVENT
BEGIN:VEVENT
DTSTART;TZID=Europe/Berlin:20220505T143000
DTEND;TZID=Europe/Berlin:20220505T173000
DTSTAMP:20260423T055735
CREATED:20220421T161514Z
LAST-MODIFIED:20230501T201357Z
UID:2213-1651761000-1651771800@www.frauentreff-brueckenhof.de
SUMMARY:Gemeinsam für den Frieden
DESCRIPTION:VEGETARISCHES PICKNICK \n  \nauf der Streuobstwiese am Heisebach
URL:https://www.frauentreff-brueckenhof.de/event/gemeinsam-fuer-den-frieden/
ATTACH;FMTTYPE=image/jpeg:https://www.frauentreff-brueckenhof.de/wp-content/uploads/2023/05/Vegetarisches-Picknick.jpg
END:VEVENT
END:VCALENDAR